BEGIN:VCALENDAR
VERSION:2.0
PRODID:-//Inside Eastside - ECPv3.11.2//NONSGML v1.0//EN
CALSCALE:GREGORIAN
METHOD:PUBLISH
X-WR-CALNAME:Inside Eastside
X-ORIGINAL-URL:http://insideeastside.org.nz
X-WR-CALDESC:Events for Inside Eastside
BEGIN:VEVENT
DTSTART:20181130T210000Z
DTEND:20181130T230000Z
DTSTAMP:20181224T103056Z
CREATED:20160517T233125Z
LAST-MODIFIED:20160517T233125Z
UID:7928-1543611600-1543618800@insideeastside.org.nz
SUMMARY:Grey Warblers
DESCRIPTION:Every 2nd and 4th Saturday of the Month.
URL:http://insideeastside.org.nz/event/grey-warblers-2-2016-08-06/2018-12-01/
LOCATION:297 Vaughn Road\, Rotorua\, 3015\, New Zealand
GEO:176.2948944;-38.1329037
X-APPLE-STRUCTURED-LOCATION;VALUE=URI;X-ADDRESS=297 Vaughn Road Rotorua 3015 New Zealand;X-APPLE-RADIUS=500;X-TITLE=297 Vaughn Road:geo:176.2948944,-38.1329037
CATEGORIES:Active Aging
ATTACH;FMTTYPE=image/jpeg:http://insideeastside.org.nz/wp-content/uploads/2015/09/group-grey-warblers-e1463527125148.jpg
END:VEVENT
END:VCALENDAR