BEGIN:VCALENDAR
VERSION:2.0
PRODID:-//Inside Eastside - ECPv3.11.2//NONSGML v1.0//EN
CALSCALE:GREGORIAN
METHOD:PUBLISH
X-WR-CALNAME:Inside Eastside
X-ORIGINAL-URL:http://insideeastside.org.nz
X-WR-CALDESC:Events for Inside Eastside
BEGIN:VEVENT
DTSTART:20181202T200000Z
DTEND:20181202T230000Z
DTSTAMP:20181224T103229Z
CREATED:20150831T214113Z
LAST-MODIFIED:20150831T214113Z
UID:7934-1543780800-1543791600@insideeastside.org.nz
SUMMARY:Lynmore Playcentre
DESCRIPTION:Meets on Monday & Friday 9.00 am to 12.00 pm.
URL:http://insideeastside.org.nz/event/lynmore-playcentre-monday/2018-12-03/
LOCATION:3A Lynbert Road\, Rotorua\, Bay of Plenty\, 3010\, New Zealand
GEO:176.2840039;-38.1477968
X-APPLE-STRUCTURED-LOCATION;VALUE=URI;X-ADDRESS=3A Lynbert Road Rotorua Bay of Plenty 3010 New Zealand;X-APPLE-RADIUS=500;X-TITLE=3A Lynbert Road:geo:176.2840039,-38.1477968
CATEGORIES:Early Childhood Learning
ATTACH;FMTTYPE=image/jpeg:http://insideeastside.org.nz/wp-content/uploads/2015/08/Lynmore-Playcentre-meets.jpg
END:VEVENT
BEGIN:VEVENT
DTSTART:20181202T200000Z
DTEND:20181202T230000Z
DTSTAMP:20181224T103229Z
CREATED:20150831T214113Z
LAST-MODIFIED:20150831T214113Z
UID:7935-1543780800-1543791600@insideeastside.org.nz
SUMMARY:Lynmore Playcentre
DESCRIPTION:Meets on Monday & Friday 9.00 am to 12.00 pm.
URL:http://insideeastside.org.nz/event/lynmore-playcentre-monday-2016-04-11/2018-12-03/
LOCATION:3A Lynbert Road\, Rotorua\, Bay of Plenty\, 3010\, New Zealand
GEO:176.2840039;-38.1477968
X-APPLE-STRUCTURED-LOCATION;VALUE=URI;X-ADDRESS=3A Lynbert Road Rotorua Bay of Plenty 3010 New Zealand;X-APPLE-RADIUS=500;X-TITLE=3A Lynbert Road:geo:176.2840039,-38.1477968
CATEGORIES:Early Childhood Learning
ATTACH;FMTTYPE=image/jpeg:http://insideeastside.org.nz/wp-content/uploads/2015/08/Lynmore-Playcentre-meets.jpg
END:VEVENT
BEGIN:VEVENT
DTSTART:20181203T010000Z
DTEND:20181203T023000Z
DTSTAMP:20181224T103229Z
CREATED:20181102T002839Z
LAST-MODIFIED:20181102T002839Z
UID:12108-1543798800-1543804200@insideeastside.org.nz
SUMMARY:Owhata Medical Center Free Throat Checks
DESCRIPTION:Free sore throat checks for everyone at Owhata Medical Center.\n\nMonday to Friday  2.00pm - 3.30pm\n\nLate night Wednesdays 3.00pm - 6.00pm
URL:http://insideeastside.org.nz/event/owhata-medical-center-free-throat-checks/2018-12-03/
LOCATION:556 Te Ngae Road\, Rotorua\, Bay of Plenty\, New Zealand
END:VEVENT
BEGIN:VEVENT
DTSTART:20181203T023000Z
DTEND:20181203T043000Z
DTSTAMP:20181224T103229Z
CREATED:20160518T022801Z
LAST-MODIFIED:20161206T231911Z
UID:7936-1543804200-1543811400@insideeastside.org.nz
SUMMARY:ER@P Eastside Rangatahi at the Park
DESCRIPTION:Free sporting and recreational activities for the Eastside youth aged 12 to 20 years.\n\nCome along and join in.
URL:http://insideeastside.org.nz/event/erp-eastside-rangatahi-at-the-park-5/2018-12-03/
LOCATION:Te Ngae Road\, Rotorua\, Bay of Plenty\, New Zealand
GEO:176.2985228;-38.1322455
X-APPLE-STRUCTURED-LOCATION;VALUE=URI;X-ADDRESS=Te Ngae Road Rotorua Bay of Plenty New Zealand;X-APPLE-RADIUS=500;X-TITLE=Te Ngae Road:geo:176.2985228,-38.1322455
CATEGORIES:ER@P
ATTACH;FMTTYPE=image/png:http://insideeastside.org.nz/wp-content/uploads/2016/05/ER@P-December.png
ORGANIZER;CN="Eastside%20Rangatahi%20at%20the%20Park":MAILTO:rangatahi@mokoiaca.org.nz
END:VEVENT
BEGIN:VEVENT
DTSTART:20181203T023000Z
DTEND:20181203T043000Z
DTSTAMP:20181224T103229Z
CREATED:20160406T021029Z
LAST-MODIFIED:20160406T021029Z
UID:8051-1543804200-1543811400@insideeastside.org.nz
SUMMARY:Eastside Rangatahi at Puketawhero Park
DESCRIPTION:
URL:http://insideeastside.org.nz/event/eastside-rangatahi-at-puketawhero-park-2016-05-05-2016-12-15/2018-12-03/
LOCATION:Te Ngae Road\, Rotorua\, Bay of Plenty\, New Zealand
GEO:176.2985228;-38.1322455
X-APPLE-STRUCTURED-LOCATION;VALUE=URI;X-ADDRESS=Te Ngae Road Rotorua Bay of Plenty New Zealand;X-APPLE-RADIUS=500;X-TITLE=Te Ngae Road:geo:176.2985228,-38.1322455
CATEGORIES:ER@P
ATTACH;FMTTYPE=image/png:http://insideeastside.org.nz/wp-content/uploads/2016/05/ER@P-December.png
ORGANIZER;CN="Eastside%20Rangatahi%20at%20the%20Park":MAILTO:rangatahi@mokoiaca.org.nz
END:VEVENT
BEGIN:VEVENT
DTSTART:20181203T060000Z
DTEND:20181203T060000Z
DTSTAMP:20181224T103229Z
CREATED:20160911T225007Z
LAST-MODIFIED:20160911T225007Z
UID:7930-1543816800-1543816800@insideeastside.org.nz
SUMMARY:Rotorua East Lions Club
DESCRIPTION:Meet 1st and 3rd Monday night of each month from 7pm. 1st Monday night\, club night at Mokoia Community Hall. 3rd Monday night\, social night at various venues. Contact Wendy Allen (07) 348-6769 or (021) 171 6007.
URL:http://insideeastside.org.nz/event/rotorua-east-lions-club/2018-12-03/
LOCATION:297 Vaughn Road\, Rotorua\, Bay of Plenty\, 3015\, New Zealand
GEO:176.2948944;-38.1329037
X-APPLE-STRUCTURED-LOCATION;VALUE=URI;X-ADDRESS=297 Vaughn Road Rotorua Bay of Plenty 3015 New Zealand;X-APPLE-RADIUS=500;X-TITLE=297 Vaughn Road:geo:176.2948944,-38.1329037
CATEGORIES:Community Event
END:VEVENT
BEGIN:VEVENT
DTSTART:20181203T060000Z
DTEND:20181203T090000Z
DTSTAMP:20181224T103229Z
CREATED:20160911T223921Z
LAST-MODIFIED:20160911T223921Z
UID:7937-1543816800-1543827600@insideeastside.org.nz
SUMMARY:Rotorua Table Tennis Club
DESCRIPTION:
URL:http://insideeastside.org.nz/event/rotorua-table-tennis-club/2018-12-03/
LOCATION:1B Iles Road\, Rotorua\, Bay of Plenty\, 3010\, New Zealand
GEO:176.2841256;-38.1447737
X-APPLE-STRUCTURED-LOCATION;VALUE=URI;X-ADDRESS=1B Iles Road Rotorua Bay of Plenty 3010 New Zealand;X-APPLE-RADIUS=500;X-TITLE=1B Iles Road:geo:176.2841256,-38.1447737
CATEGORIES:Recreation and Sports
END:VEVENT
END:VCALENDAR