BEGIN:VCALENDAR
VERSION:2.0
PRODID:-//Inside Eastside - ECPv3.11.2//NONSGML v1.0//EN
CALSCALE:GREGORIAN
METHOD:PUBLISH
X-WR-CALNAME:Inside Eastside
X-ORIGINAL-URL:http://insideeastside.org.nz
X-WR-CALDESC:Events for Inside Eastside
BEGIN:VEVENT
DTSTART:20181203T200000Z
DTEND:20181203T210000Z
DTSTAMP:20181224T103439Z
CREATED:20160911T223029Z
LAST-MODIFIED:20160911T223029Z
UID:8785-1543867200-1543870800@insideeastside.org.nz
SUMMARY:Mums and Bubs Revive
DESCRIPTION:
URL:http://insideeastside.org.nz/event/mums-and-bubs-revive/2018-12-04/
LOCATION:Lewis Road\, Rotorua\, 3010\, New Zealand
GEO:176.2873653;-38.1518397
X-APPLE-STRUCTURED-LOCATION;VALUE=URI;X-ADDRESS=Lewis Road Rotorua 3010 New Zealand;X-APPLE-RADIUS=500;X-TITLE=Lewis Road:geo:176.2873653,-38.1518397
CATEGORIES:Parenting Group
END:VEVENT
BEGIN:VEVENT
DTSTART:20181203T210000Z
DTEND:20181204T010000Z
DTSTAMP:20181224T103439Z
CREATED:20150529T012627Z
LAST-MODIFIED:20150529T012627Z
UID:7938-1543870800-1543885200@insideeastside.org.nz
SUMMARY:Social Cycling
DESCRIPTION:A weekly social cycling group as part of the MCA Active Ageing programme.
URL:http://insideeastside.org.nz/event/social-cycling/2018-12-04/
LOCATION:297 Vaughn Road\, Rotorua\, 3015\, New Zealand
GEO:176.2948944;-38.1329037
X-APPLE-STRUCTURED-LOCATION;VALUE=URI;X-ADDRESS=297 Vaughn Road Rotorua 3015 New Zealand;X-APPLE-RADIUS=500;X-TITLE=297 Vaughn Road:geo:176.2948944,-38.1329037
CATEGORIES:Active Aging
ATTACH;FMTTYPE=image/jpeg:http://insideeastside.org.nz/wp-content/uploads/2015/05/stock-photo-6630025-giro-d-italia-color-image.jpg
END:VEVENT
BEGIN:VEVENT
DTSTART:20181203T210000Z
DTEND:20181203T230000Z
DTSTAMP:20181224T103439Z
CREATED:20150529T013122Z
LAST-MODIFIED:20150529T013122Z
UID:7939-1543870800-1543878000@insideeastside.org.nz
SUMMARY:Enliven Seniors Get together
DESCRIPTION:Held at St Johns Church\, a great way to meet other seniors
URL:http://insideeastside.org.nz/event/enliven-seniors-get-together/2018-12-04/
LOCATION:Victoria Street\, Rotorua\, 3010\, New Zealand
GEO:176.250338;-38.142314
X-APPLE-STRUCTURED-LOCATION;VALUE=URI;X-ADDRESS=Victoria Street Rotorua 3010 New Zealand;X-APPLE-RADIUS=500;X-TITLE=Victoria Street:geo:176.250338,-38.142314
CATEGORIES:Active Aging
ATTACH;FMTTYPE=image/jpeg:http://insideeastside.org.nz/wp-content/uploads/2015/05/stock-photo-8819240-happy-senior-adults-showing-thumbs-up-sign.jpg
END:VEVENT
END:VCALENDAR